BEGIN:VCALENDAR
VERSION:2.0
PRODID:-//McKenzie Lake Lawyers LLP
 //NONSGML Events //EN
CALSCALE:GREGORIAN
BEGIN:VEVENT
CREATED:20200619T165228
UID:4925
DTSTART:20200911T160000Z
DTEND:20200912T020000Z
DTSTAMP:20260421T025041
LOCATION:
DESCRIPTION:McKenzie Lake is pleased to be hosting the 30th Annual Middlesex Family Lawyers’ Association conference.&nbsp; Presented via Zoom on Friday September 11th, 2020, this conference offers a full day of comprehensive peer-driven educational content and accredited sessions.&nbsp; Joining our very own Megan Strachan who is chairing this event, Greg Spriensma is speaking on Parenting Arrangements for Children with Disabilities and Jennifer Foster and Hilary Jenkins are running technical support.&nbsp; Hilary is also moderating questions during the Arbitrators’ Panel and Matthew Villeneuve is moderating the Judicial Town Hall.&nbsp; For further information, visit the Middlesex Family Lawyers’ Association....
SUMMARY:Middlesex Family Lawyers’ Association Conference
ORGANIZER:CN=McKenzie Lake Lawyers LLP
URL;VALUE=URI:https://www.mckenzielake.com/event/test-event/
TRANSP:OPAQUE
END:VEVENT
END:VCALENDAR
